BEGIN:VCALENDAR
VERSION:2.0
PRODID:-//Club Nàutic Sant Feliu de Guixols - ECPv6.15.20//NONSGML v1.0//EN
CALSCALE:GREGORIAN
METHOD:PUBLISH
X-WR-CALNAME:Club Nàutic Sant Feliu de Guixols
X-ORIGINAL-URL:https://cnsfg.cat/es/
X-WR-CALDESC:Eventos para Club Nàutic Sant Feliu de Guixols
REFRESH-INTERVAL;VALUE=DURATION:PT1H
X-Robots-Tag:noindex
X-PUBLISHED-TTL:PT1H
BEGIN:VTIMEZONE
TZID:Europe/Madrid
BEGIN:DAYLIGHT
TZOFFSETFROM:+0100
TZOFFSETTO:+0200
TZNAME:CEST
DTSTART:20210328T010000
END:DAYLIGHT
BEGIN:STANDARD
TZOFFSETFROM:+0200
TZOFFSETTO:+0100
TZNAME:CET
DTSTART:20211031T010000
END:STANDARD
BEGIN:DAYLIGHT
TZOFFSETFROM:+0100
TZOFFSETTO:+0200
TZNAME:CEST
DTSTART:20220327T010000
END:DAYLIGHT
BEGIN:STANDARD
TZOFFSETFROM:+0200
TZOFFSETTO:+0100
TZNAME:CET
DTSTART:20221030T010000
END:STANDARD
BEGIN:DAYLIGHT
TZOFFSETFROM:+0100
TZOFFSETTO:+0200
TZNAME:CEST
DTSTART:20230326T010000
END:DAYLIGHT
BEGIN:STANDARD
TZOFFSETFROM:+0200
TZOFFSETTO:+0100
TZNAME:CET
DTSTART:20231029T010000
END:STANDARD
BEGIN:DAYLIGHT
TZOFFSETFROM:+0100
TZOFFSETTO:+0200
TZNAME:CEST
DTSTART:20240331T010000
END:DAYLIGHT
BEGIN:STANDARD
TZOFFSETFROM:+0200
TZOFFSETTO:+0100
TZNAME:CET
DTSTART:20241027T010000
END:STANDARD
BEGIN:DAYLIGHT
TZOFFSETFROM:+0100
TZOFFSETTO:+0200
TZNAME:CEST
DTSTART:20250330T010000
END:DAYLIGHT
BEGIN:STANDARD
TZOFFSETFROM:+0200
TZOFFSETTO:+0100
TZNAME:CET
DTSTART:20251026T010000
END:STANDARD
END:VTIMEZONE
BEGIN:VEVENT
DTSTART;TZID=Europe/Madrid:20240617T080000
DTEND;TZID=Europe/Madrid:20240621T170000
DTSTAMP:20260420T203801
CREATED:20240425T094655Z
LAST-MODIFIED:20240425T094655Z
UID:396689-1718611200-1718989200@cnsfg.cat
SUMMARY:Campeonato de España de ILCA 6
DESCRIPTION:El Club Náutico Sant Feliu de Guíxols será sede del 17 al 21 de junio del Campeonato de España de ILCA 6 que se organiza conjuntamente con la Real Federación Española de Vela.
URL:https://cnsfg.cat/es/event/campeonato-de-espana-de-ilca-6/
LOCATION:Club Nàutic Sant Feliu de Guíxols\, Escullera del port s/n\, Sant Feliu de Guíxols\, Girona\, 17220\, España
ATTACH;FMTTYPE=image/jpeg:https://cnsfg.cat/wp-content/uploads/2024/04/WhatsApp-Image-2024-04-25-at-11.45.37.jpeg
ORGANIZER;CN="Club N%C3%A1utico Sant Feliu de Gu%C3%ADxols":MAILTO:info@cnsfg.cat
END:VEVENT
BEGIN:VEVENT
DTSTART;TZID=Europe/Madrid:20240615T110000
DTEND;TZID=Europe/Madrid:20240615T140000
DTSTAMP:20260420T203801
CREATED:20240425T093911Z
LAST-MODIFIED:20240425T093911Z
UID:396690-1718449200-1718460000@cnsfg.cat
SUMMARY:Regata mensual de crucero
DESCRIPTION:Regata mensual de crucero N3 en la Escuela de Vela. Actividad social.
URL:https://cnsfg.cat/es/event/regata-mensual-de-crucero/
LOCATION:Escuela de vela del Club Nàutic Sant Feliu de Guíxols\, Escullera del Port\, s/n\, Sant Feliu de Guíxols\, Girona\, 17200\, Espanya
CATEGORIES:Regatas
ORGANIZER;CN="Club N%C3%A1utico Sant Feliu de Gu%C3%ADxols":MAILTO:info@cnsfg.cat
END:VEVENT
BEGIN:VEVENT
DTSTART;TZID=Europe/Madrid:20240614T190000
DTEND;TZID=Europe/Madrid:20240614T210000
DTSTAMP:20260420T203801
CREATED:20240425T093648Z
LAST-MODIFIED:20240425T093648Z
UID:396691-1718391600-1718398800@cnsfg.cat
SUMMARY:Charla mensual en el Tinglado
DESCRIPTION:Charla mensual en el Tinglado de entrada libre.
URL:https://cnsfg.cat/es/event/charla-mensual-en-el-tinglado/
LOCATION:El Tinglado\, Escullera del Port\, s/n\, Sant Feliu de Guíxols\, Girona\, 17200
CATEGORIES:Socios
ATTACH;FMTTYPE=image/jpeg:https://cnsfg.cat/wp-content/uploads/2022/11/Tinglado-tancat-scaled.jpg
END:VEVENT
BEGIN:VEVENT
DTSTART;TZID=Europe/Madrid:20240608T103000
DTEND;TZID=Europe/Madrid:20240608T140000
DTSTAMP:20260420T203801
CREATED:20240425T093445Z
LAST-MODIFIED:20240425T093445Z
UID:396692-1717842600-1717855200@cnsfg.cat
SUMMARY:Junta general extraordinaria y elecciones
DESCRIPTION:Junta general extraordinaria y elecciones al Club Náutico Sant Feliu de Guíxols.
URL:https://cnsfg.cat/es/event/junta-general-extraordinaria-y-elecciones/
LOCATION:Club Nàutic Sant Feliu de Guíxols\, Escullera del port s/n\, Sant Feliu de Guíxols\, Girona\, 17220\, España
CATEGORIES:Socios
ATTACH;FMTTYPE=image/jpeg:https://cnsfg.cat/wp-content/uploads/2023/11/LOGO-CNSFG_MAIG-2023.jpg
END:VEVENT
BEGIN:VEVENT
DTSTART;TZID=Europe/Madrid:20240517T203000
DTEND;TZID=Europe/Madrid:20240517T220000
DTSTAMP:20260420T203801
CREATED:20240425T092820Z
LAST-MODIFIED:20240425T092820Z
UID:396693-1715977800-1715983200@cnsfg.cat
SUMMARY:Rock&Ganxotapes
DESCRIPTION:Rock&Ganxotapes en el Tinglado con concierto de Eric Fuentes.
URL:https://cnsfg.cat/es/event/rockganxotapes/
LOCATION:El Tinglado\, Escullera del Port\, s/n\, Sant Feliu de Guíxols\, Girona\, 17200
CATEGORIES:Tinglado
ATTACH;FMTTYPE=image/jpeg:https://cnsfg.cat/wp-content/uploads/2024/04/tinglado-OK.jpg
END:VEVENT
BEGIN:VEVENT
DTSTART;TZID=Europe/Madrid:20240511T110000
DTEND;TZID=Europe/Madrid:20240511T133000
DTSTAMP:20260420T203801
CREATED:20240425T091751Z
LAST-MODIFIED:20240425T091751Z
UID:396694-1715425200-1715434200@cnsfg.cat
SUMMARY:Regata mensual de crucero
DESCRIPTION:Regata mensual de crucero N3 en la Escuela de Vela. Actividad social.
URL:https://cnsfg.cat/es/event/regata-mensual-de-crucero-2/
LOCATION:Escuela de vela del Club Nàutic Sant Feliu de Guíxols\, Escullera del Port\, s/n\, Sant Feliu de Guíxols\, Girona\, 17200\, Espanya
CATEGORIES:Regatas,Socios
ORGANIZER;CN="Club N%C3%A1utico Sant Feliu de Gu%C3%ADxols":MAILTO:info@cnsfg.cat
END:VEVENT
BEGIN:VEVENT
DTSTART;TZID=Europe/Madrid:20240511T103000
DTEND;TZID=Europe/Madrid:20240511T123000
DTSTAMP:20260420T203801
CREATED:20240425T092510Z
LAST-MODIFIED:20240425T092510Z
UID:396695-1715423400-1715430600@cnsfg.cat
SUMMARY:Let's Clean up Europe
DESCRIPTION:11ª edición de la campaña de limpieza del puerto «Let’s clean up Europe».
URL:https://cnsfg.cat/es/event/lets-clean-up-europe/
LOCATION:Club Nàutic Sant Feliu de Guíxols\, Escullera del port s/n\, Sant Feliu de Guíxols\, Girona\, 17220\, España
CATEGORIES:Medioambiente y RSC
ATTACH;FMTTYPE=image/jpeg:https://cnsfg.cat/wp-content/uploads/2024/04/WhatsApp-Image-2024-04-25-at-11.23.31.jpeg
END:VEVENT
BEGIN:VEVENT
DTSTART;TZID=Europe/Madrid:20240427T103000
DTEND;TZID=Europe/Madrid:20240427T120000
DTSTAMP:20260420T203801
CREATED:20240425T091346Z
LAST-MODIFIED:20240425T091346Z
UID:396696-1714213800-1714219200@cnsfg.cat
SUMMARY:Junta general de socios
DESCRIPTION:Celebración de la junta general ordinaria de socios del Club Náutico en la Sala Abad Panyelles del Monasterio de Sant Feliu de Guíxols.
URL:https://cnsfg.cat/es/event/junta-general-de-socios/
LOCATION:Girona
CATEGORIES:Socios
ATTACH;FMTTYPE=image/jpeg:https://cnsfg.cat/wp-content/uploads/2023/11/LOGO-CNSFG_MAIG-2023.jpg
ORGANIZER;CN="Club N%C3%A1utico Sant Feliu de Gu%C3%ADxols":MAILTO:info@cnsfg.cat
END:VEVENT
BEGIN:VEVENT
DTSTART;TZID=Europe/Madrid:20240426T190000
DTEND;TZID=Europe/Madrid:20240426T203000
DTSTAMP:20260420T203801
CREATED:20240425T090551Z
LAST-MODIFIED:20240425T090551Z
UID:396697-1714158000-1714163400@cnsfg.cat
SUMMARY:Charla Mensual en el Tinglado
DESCRIPTION:El Tinglado acoge el 26 de abril (19:00) una nueva charla mensual. Lleva por título «Robótica submarina para la monitorización de los ecosistemas marinos» a cargo del Instituto Vicorob de la Universidad de Girona. La entrada es libre.
URL:https://cnsfg.cat/es/event/charla-mensual-en-el-tinglado-2/
LOCATION:El Tinglado\, Escullera del Port\, s/n\, Sant Feliu de Guíxols\, Girona\, 17200
CATEGORIES:Socios
ATTACH;FMTTYPE=image/jpeg:https://cnsfg.cat/wp-content/uploads/2024/04/WhatsApp-Image-2024-04-18-at-11.30.55.jpeg
ORGANIZER;CN="Club N%C3%A1utico Sant Feliu de Gu%C3%ADxols":MAILTO:info@cnsfg.cat
END:VEVENT
BEGIN:VEVENT
DTSTART;TZID=Europe/Madrid:20230930T120000
DTEND;TZID=Europe/Madrid:20231001T170000
DTSTAMP:20260420T203801
CREATED:20230801T143213Z
LAST-MODIFIED:20230801T143213Z
UID:382625-1696075200-1696179600@cnsfg.cat
SUMMARY:52ª Guíxols Medes
DESCRIPTION:Regata organizada ininterrumpidamente más antigua de Cataluña celebrada para embarcaciones de vela bajo el Sistema de Medición ORC (Internacional & Club). En el caso de que la embarcación no disponga de Rating ORC\, la organización asignará uno el cual será inapelable.
URL:https://cnsfg.cat/es/event/52a-guixols-medes/
LOCATION:Club Nàutic Sant Feliu de Guíxols\, Escullera del port s/n\, Sant Feliu de Guíxols\, Girona\, 17220\, España
CATEGORIES:Regatas
ATTACH;FMTTYPE=image/png:https://cnsfg.cat/wp-content/uploads/2023/08/CARTELL_52guixolsmedes_ok.png
ORGANIZER;CN="Club N%C3%A1utico Sant Feliu de Gu%C3%ADxols":MAILTO:info@cnsfg.cat
END:VEVENT
BEGIN:VEVENT
DTSTART;TZID=Europe/Madrid:20230930T100000
DTEND;TZID=Europe/Madrid:20230930T120000
DTSTAMP:20260420T203801
CREATED:20230801T143713Z
LAST-MODIFIED:20230801T143713Z
UID:382626-1696068000-1696075200@cnsfg.cat
SUMMARY:Curso de pesca a curricano para adultos
DESCRIPTION:Curso teórico de pesca a curricán para adultos a cargo de la AEPMSFG.
URL:https://cnsfg.cat/es/event/curso-de-pesca-a-curricano-para-adultos/
LOCATION:Club Nàutic Sant Feliu de Guíxols\, Escullera del port s/n\, Sant Feliu de Guíxols\, Girona\, 17220\, España
CATEGORIES:Pesca
ATTACH;FMTTYPE=image/jpeg:https://cnsfg.cat/wp-content/uploads/2023/08/pesca-al-currican.jpeg
END:VEVENT
BEGIN:VEVENT
DTSTART;TZID=Europe/Madrid:20230916T103000
DTEND;TZID=Europe/Madrid:20230916T140000
DTSTAMP:20260420T203801
CREATED:20230801T144530Z
LAST-MODIFIED:20230801T144530Z
UID:382627-1694860200-1694872800@cnsfg.cat
SUMMARY:Regata de veteranos de vela ligera y comida
DESCRIPTION:Regata no puntuable de nivel III con embarcaciones de vela ligera. Posteriormente\, a partir de las 14:00h\, comida.
URL:https://cnsfg.cat/es/event/regata-de-veteranos-de-vela-ligera-y-comida/
LOCATION:Club Nàutic Sant Feliu de Guíxols\, Escullera del port s/n\, Sant Feliu de Guíxols\, Girona\, 17220\, España
CATEGORIES:Regatas
ATTACH;FMTTYPE=image/jpeg:https://cnsfg.cat/wp-content/uploads/2023/08/LOGO-CNSFG_MAIG-2023.jpg
ORGANIZER;CN="Club N%C3%A1utico Sant Feliu de Gu%C3%ADxols":MAILTO:info@cnsfg.cat
END:VEVENT
BEGIN:VEVENT
DTSTART;TZID=Europe/Madrid:20230825T230000
DTEND;TZID=Europe/Madrid:20230826T020000
DTSTAMP:20260420T203801
CREATED:20230615T135211Z
LAST-MODIFIED:20230615T135211Z
UID:382628-1693004400-1693015200@cnsfg.cat
SUMMARY:Noche del Socio en el Tinglado
DESCRIPTION:23 h Baile DJ en la terraza del Tinglado.
URL:https://cnsfg.cat/es/event/noche-del-socio-en-el-tinglado/
LOCATION:El Tinglado\, Escullera del Port\, s/n\, Sant Feliu de Guíxols\, Girona\, 17200
CATEGORIES:Socios
ATTACH;FMTTYPE=image/jpeg:https://cnsfg.cat/wp-content/uploads/2023/06/WhatsApp-Image-2023-06-06-at-08.41.43.jpeg
END:VEVENT
BEGIN:VEVENT
DTSTART;TZID=Europe/Madrid:20230805T200000
DTEND;TZID=Europe/Madrid:20230806T010000
DTSTAMP:20260420T203801
CREATED:20230615T133411Z
LAST-MODIFIED:20230615T133411Z
UID:382632-1691265600-1691283600@cnsfg.cat
SUMMARY:Cena social y entrega de insignias
DESCRIPTION:Una cena social de verano donde se hace entrega de las insignias de plata a los asociados que hace 40 años que forman parte de la entidad.
URL:https://cnsfg.cat/es/event/cena-social-y-entrega-de-insignias/
LOCATION:Club Nàutic Sant Feliu de Guíxols\, Escullera del port s/n\, Sant Feliu de Guíxols\, Girona\, 17220\, España
CATEGORIES:Socios
ATTACH;FMTTYPE=image/jpeg:https://cnsfg.cat/wp-content/uploads/2022/07/activitat-sopar-social-club.jpg
END:VEVENT
BEGIN:VEVENT
DTSTART;TZID=Europe/Madrid:20230805T103000
DTEND;TZID=Europe/Madrid:20230805T133000
DTSTAMP:20260420T203801
CREATED:20230615T133554Z
LAST-MODIFIED:20230615T133554Z
UID:382631-1691231400-1691242200@cnsfg.cat
SUMMARY:Taller de nudos para niños
DESCRIPTION:Actividad para conocer los principales nudos marineros\, ya que es esencial para cualquier navegante\, al final de la actividad los participantes se llevan a casa un cuadro con los nudos aprendidos como recuerdo.
URL:https://cnsfg.cat/es/event/taller-de-nudos-para-ninos/
LOCATION:Escuela de vela del Club Nàutic Sant Feliu de Guíxols\, Escullera del Port\, s/n\, Sant Feliu de Guíxols\, Girona\, 17200\, Espanya
CATEGORIES:Infantiles
ATTACH;FMTTYPE=image/jpeg:https://cnsfg.cat/wp-content/uploads/2023/06/TALLER-NUSOS.jpg
END:VEVENT
BEGIN:VEVENT
DTSTART;TZID=Europe/Madrid:20230804T230000
DTEND;TZID=Europe/Madrid:20230806T140000
DTSTAMP:20260420T203801
CREATED:20230615T133118Z
LAST-MODIFIED:20230615T133118Z
UID:382630-1691190000-1691330400@cnsfg.cat
SUMMARY:Noche del socio en el Tinglado
DESCRIPTION:23 h Baile DJ en la terraza del Tinglado.
URL:https://cnsfg.cat/es/event/noche-del-socio-en-el-tinglado-2/
LOCATION:El Tinglado\, Escullera del Port\, s/n\, Sant Feliu de Guíxols\, Girona\, 17200
ATTACH;FMTTYPE=image/jpeg:https://cnsfg.cat/wp-content/uploads/2023/06/WhatsApp-Image-2023-06-06-at-08.41.43.jpeg
END:VEVENT
BEGIN:VEVENT
DTSTART;TZID=Europe/Madrid:20230729T103000
DTEND;TZID=Europe/Madrid:20230729T133000
DTSTAMP:20260420T203801
CREATED:20230615T132921Z
LAST-MODIFIED:20230615T132921Z
UID:382629-1690626600-1690637400@cnsfg.cat
SUMMARY:Actividad de sensibilización ambiental
DESCRIPTION:Actividad para niños de sensibilitación medioambiental marina.
URL:https://cnsfg.cat/es/event/actividad-de-sensibilizacion-ambiental/
LOCATION:Escuela de vela del Club Nàutic Sant Feliu de Guíxols\, Escullera del Port\, s/n\, Sant Feliu de Guíxols\, Girona\, 17200\, Espanya
CATEGORIES:Infantiles
END:VEVENT
BEGIN:VEVENT
DTSTART;TZID=Europe/Madrid:20230121T110000
DTEND;TZID=Europe/Madrid:20230122T170000
DTSTAMP:20260420T203801
CREATED:20221221T141114Z
LAST-MODIFIED:20221221T141440Z
UID:377203-1674298800-1674406800@cnsfg.cat
SUMMARY:VIII Guíxols Cup - Europa y 420
DESCRIPTION:VIII Guíxols Cup 2023 – Regata NII para las Clases 420 y Europa
URL:https://cnsfg.cat/es/event/viii-guixols-cup-europa-y-420/
LOCATION:Escuela de vela del Club Nàutic Sant Feliu de Guíxols\, Escullera del Port\, s/n\, Sant Feliu de Guíxols\, Girona\, 17200\, Espanya
CATEGORIES:Regatas
ATTACH;FMTTYPE=image/jpeg:https://cnsfg.cat/wp-content/uploads/2022/12/202103_CNS_420-EU_0518-1920px_1280@75.jpg
ORGANIZER;CN="Club N%C3%A1utico Sant Feliu de Gu%C3%ADxols":MAILTO:info@cnsfg.cat
END:VEVENT
BEGIN:VEVENT
DTSTART;TZID=Europe/Madrid:20230114T110000
DTEND;TZID=Europe/Madrid:20230114T170000
DTSTAMP:20260420T203801
CREATED:20221221T140819Z
LAST-MODIFIED:20221221T140819Z
UID:377208-1673694000-1673715600@cnsfg.cat
SUMMARY:Regata de cruceros de enero
DESCRIPTION:Regata mensual enero 2023. Cruceros NIII.
URL:https://cnsfg.cat/es/event/regata-de-cruceros-de-enero/
LOCATION:Club Nàutic Sant Feliu de Guíxols\, Escullera del port s/n\, Sant Feliu de Guíxols\, Girona\, 17220\, España
CATEGORIES:Regatas
ATTACH;FMTTYPE=image/jpeg:https://cnsfg.cat/wp-content/uploads/2022/12/LOGO-CNSFG-ABR16.jpg
END:VEVENT
BEGIN:VEVENT
DTSTART;TZID=Europe/Madrid:20230104T180000
DTEND;TZID=Europe/Madrid:20230104T190000
DTSTAMP:20260420T203801
CREATED:20221221T140509Z
LAST-MODIFIED:20221221T140509Z
UID:377209-1672855200-1672858800@cnsfg.cat
SUMMARY:Recibimiento de los Carteros Reales
DESCRIPTION:4 de enero. Recibimiento Carteros Reales. Acompañamiento por parte de las embarcaciones del Club que quieran de la embarcación de los Carteros Reales.
URL:https://cnsfg.cat/es/event/recibimiento-de-los-carteros-reales/
LOCATION:Club Nàutic Sant Feliu de Guíxols\, Escullera del port s/n\, Sant Feliu de Guíxols\, Girona\, 17220\, España
ATTACH;FMTTYPE=image/jpeg:https://cnsfg.cat/wp-content/uploads/2022/12/Carters-Reials.jpeg
END:VEVENT
BEGIN:VEVENT
DTSTART;TZID=Europe/Madrid:20221210T000000
DTEND;TZID=Europe/Madrid:20221210T170000
DTSTAMP:20260420T203801
CREATED:20220802T094731Z
LAST-MODIFIED:20220802T094731Z
UID:371199-1670630400-1670691600@cnsfg.cat
SUMMARY:Regata mensual de diciembre
DESCRIPTION:Regata del mes de diciembre. Regata social de crucero N3.
URL:https://cnsfg.cat/es/event/regata-mensual-de-diciembre/
LOCATION:Girona
CATEGORIES:Regatas,Socios
ATTACH;FMTTYPE=image/jpeg:https://cnsfg.cat/wp-content/uploads/2022/08/regata-mensual-desembre.jpg
ORGANIZER;CN="Club N%C3%A1utico Sant Feliu de Gu%C3%ADxols":MAILTO:info@cnsfg.cat
END:VEVENT
BEGIN:VEVENT
DTSTART;VALUE=DATE:20221126
DTEND;VALUE=DATE:20221127
DTSTAMP:20260420T203801
CREATED:20220802T094330Z
LAST-MODIFIED:20220802T094330Z
UID:371219-1669420800-1669507199@cnsfg.cat
SUMMARY:Regata del Solsticio de Invierno
DESCRIPTION:XVIII Regata del Solsticio de Invierno entre Palamós y Sant Feliu. Salida del Puerto Marina el 26 de noviembre. Regata de Crucero N3.
URL:https://cnsfg.cat/es/event/regata-del-solsticio-de-invierno/
LOCATION:Girona
CATEGORIES:Regatas
ATTACH;FMTTYPE=image/jpeg:https://cnsfg.cat/wp-content/uploads/2022/08/Regata-solstici.jpg
END:VEVENT
BEGIN:VEVENT
DTSTART;TZID=Europe/Madrid:20221125T210000
DTEND;TZID=Europe/Madrid:20221125T210000
DTSTAMP:20260420T203801
CREATED:20220802T093630Z
LAST-MODIFIED:20220802T093630Z
UID:371210-1669410000-1669410000@cnsfg.cat
SUMMARY:VII Regata nocturna
DESCRIPTION:VII Regata nocturna entre Sant Feliu de Guíxols y Palamós. Es una regata social de crucero N3 que tendrá lugar el 5 de noviembre.
URL:https://cnsfg.cat/es/event/vii-regata-nocturna/
LOCATION:Girona
CATEGORIES:Regatas,Socios
ATTACH;FMTTYPE=image/png:https://cnsfg.cat/wp-content/uploads/2022/08/Regata-nocturna.png
ORGANIZER;CN="Club N%C3%A1utico Sant Feliu de Gu%C3%ADxols":MAILTO:info@cnsfg.cat
END:VEVENT
BEGIN:VEVENT
DTSTART;TZID=Europe/Madrid:20221016T090000
DTEND;TZID=Europe/Madrid:20221016T170000
DTSTAMP:20260420T203801
CREATED:20220802T091651Z
LAST-MODIFIED:20220802T091651Z
UID:371208-1665910800-1665939600@cnsfg.cat
SUMMARY:Segunda sesión del curso de pesca de curricán para adultos
DESCRIPTION:Curso de pesca de curricán desde embarcación para adultos que organiza la AEPMSFG. Es la segunda de las dos sesiones previstas\, que tiene lugar el domingo 16 de octubre. Habrá salida en barca.
URL:https://cnsfg.cat/es/event/segunda-sesion-del-curso-de-pesca-de-currican-para-adultos/
LOCATION:Girona
CATEGORIES:Pesca
END:VEVENT
BEGIN:VEVENT
DTSTART;TZID=Europe/Madrid:20221001T110000
DTEND;TZID=Europe/Madrid:20221002T170000
DTSTAMP:20260420T203801
CREATED:20220802T090645Z
LAST-MODIFIED:20220802T090645Z
UID:371213-1664622000-1664730000@cnsfg.cat
SUMMARY:51ª Regata Guíxols Medes
DESCRIPTION:Los días 1 y 2 de octubre tendrá lugar la regata 51 Guíxols Medes\, la más antigua de Cataluña. Es una prueba social de crucero de N2 que traza un recorrido entre Sant Feliu y las Islas Medes.
URL:https://cnsfg.cat/es/event/51a-regata-guixols-medes/
LOCATION:Girona
CATEGORIES:Regatas,Socios
ATTACH;FMTTYPE=image/jpeg:https://cnsfg.cat/wp-content/uploads/2022/08/Regata-Guixols-Medes.jpg
ORGANIZER;CN="Club N%C3%A1utico Sant Feliu de Gu%C3%ADxols":MAILTO:info@cnsfg.cat
END:VEVENT
BEGIN:VEVENT
DTSTART;VALUE=DATE:20221001
DTEND;VALUE=DATE:20221003
DTSTAMP:20260420T203801
CREATED:20220912T161035Z
LAST-MODIFIED:20220912T165840Z
UID:375682-1664582400-1664755199@cnsfg.cat
SUMMARY:51. Regata Guíxols Medes
DESCRIPTION:Regata Guíxols Medes 2022.\nClase Crucero ORC. Puntuabe por los campeonatos de Cataluña de Solitarios\, A2 y Altura (tripulación). \nFechas: 01-02 Octubre 2022 \n+Info: info@cnsfg.cat
URL:https://cnsfg.cat/es/event/51-regata-guixols-medes/
LOCATION:Club Nàutic Sant Feliu de Guíxols\, Escullera del port s/n\, Sant Feliu de Guíxols\, Girona\, 17220\, España
CATEGORIES:Regatas
ATTACH;FMTTYPE=image/jpeg:https://cnsfg.cat/wp-content/uploads/2022/09/Guixols-Medes-2022-scaled.jpg
ORGANIZER;CN="Club N%C3%A1utico Sant Feliu de Gu%C3%ADxols":MAILTO:info@cnsfg.cat
END:VEVENT
BEGIN:VEVENT
DTSTART;VALUE=DATE:20220915
DTEND;VALUE=DATE:20220919
DTSTAMP:20260420T203801
CREATED:20220912T155911Z
LAST-MODIFIED:20220912T165811Z
UID:375674-1663200000-1663545599@cnsfg.cat
SUMMARY:Campeonato España ILCA Master 2022
DESCRIPTION:Campeonato de España clase ILCA Master 2022. \nFecha: del 15 al 18 de septiembre 2022 \n+ info: Club Náutico Sant Feliu de Guíxols \ninfo@cnsfg.cat
URL:https://cnsfg.cat/es/event/campeonado-espana-ilca-master/
LOCATION:Club Nàutic Sant Feliu de Guíxols\, Escullera del port s/n\, Sant Feliu de Guíxols\, Girona\, 17220\, España
CATEGORIES:Regatas
ATTACH;FMTTYPE=image/jpeg:https://cnsfg.cat/wp-content/uploads/2022/09/CNSFG_ILCAMASTER_2022ok_TR.jpg
ORGANIZER;CN="Club N%C3%A1utico Sant Feliu de Gu%C3%ADxols":MAILTO:info@cnsfg.cat
END:VEVENT
BEGIN:VEVENT
DTSTART;TZID=Europe/Madrid:20220910T090000
DTEND;TZID=Europe/Madrid:20220910T170000
DTSTAMP:20260420T203801
CREATED:20220726T143735Z
LAST-MODIFIED:20220726T143735Z
UID:370607-1662800400-1662829200@cnsfg.cat
SUMMARY:Regata mensual septiembre
DESCRIPTION:Regata mensual del mes de septiembre. Regata social de crucero y N3.
URL:https://cnsfg.cat/es/event/regata-mensual-septiembre/
LOCATION:Girona
CATEGORIES:Regatas,Socios
ATTACH;FMTTYPE=image/jpeg:https://cnsfg.cat/wp-content/uploads/2022/07/Regata-social-setembre.jpg
ORGANIZER;CN="Club N%C3%A1utico Sant Feliu de Gu%C3%ADxols":MAILTO:info@cnsfg.cat
END:VEVENT
BEGIN:VEVENT
DTSTART;VALUE=DATE:20220826
DTEND;VALUE=DATE:20220827
DTSTAMP:20260420T203801
CREATED:20220725T110005Z
LAST-MODIFIED:20220725T110005Z
UID:370156-1661472000-1661558399@cnsfg.cat
SUMMARY:Entrega de premios Escuela de Vela
DESCRIPTION:Entrega de premios al alumnado de la Escuela de Velen verano del Club Náutico. Actividad social y deportiva.
URL:https://cnsfg.cat/es/event/entrega-de-premios-escuela-de-vela/
LOCATION:Escuela de vela del Club Nàutic Sant Feliu de Guíxols\, Escullera del Port\, s/n\, Sant Feliu de Guíxols\, Girona\, 17200\, Espanya
CATEGORIES:Infantiles,Regatas
ATTACH;FMTTYPE=image/jpeg:https://cnsfg.cat/wp-content/uploads/2022/07/Escola-vela-premis.jpg
ORGANIZER;CN="Club N%C3%A1utico Sant Feliu de Gu%C3%ADxols":MAILTO:info@cnsfg.cat
END:VEVENT
BEGIN:VEVENT
DTSTART;VALUE=DATE:20220826
DTEND;VALUE=DATE:20220827
DTSTAMP:20260420T203801
CREATED:20220725T105651Z
LAST-MODIFIED:20220725T105651Z
UID:370145-1661472000-1661558399@cnsfg.cat
SUMMARY:Regata final Escuela de Vela
DESCRIPTION:Regata final de la Escuela de Vela de verano. Actividad de vela ligeroa.
URL:https://cnsfg.cat/es/event/regata-final-escuela-de-vela/
LOCATION:Escuela de vela del Club Nàutic Sant Feliu de Guíxols\, Escullera del Port\, s/n\, Sant Feliu de Guíxols\, Girona\, 17200\, Espanya
CATEGORIES:Regatas
ATTACH;FMTTYPE=image/jpeg:https://cnsfg.cat/wp-content/uploads/2022/07/Escola-vela-regata-final.jpg
ORGANIZER;CN="Club N%C3%A1utico Sant Feliu de Gu%C3%ADxols":MAILTO:info@cnsfg.cat
END:VEVENT
END:VCALENDAR