BEGIN:VCALENDAR
VERSION:2.0
PRODID:-//Club Nàutic Sant Feliu de Guixols - ECPv6.15.20//NONSGML v1.0//EN
CALSCALE:GREGORIAN
METHOD:PUBLISH
X-WR-CALNAME:Club Nàutic Sant Feliu de Guixols
X-ORIGINAL-URL:https://cnsfg.cat
X-WR-CALDESC:Esdeveniments per Club Nàutic Sant Feliu de Guixols
REFRESH-INTERVAL;VALUE=DURATION:PT1H
X-Robots-Tag:noindex
X-PUBLISHED-TTL:PT1H
BEGIN:VTIMEZONE
TZID:Europe/Madrid
BEGIN:DAYLIGHT
TZOFFSETFROM:+0100
TZOFFSETTO:+0200
TZNAME:CEST
DTSTART:20220327T010000
END:DAYLIGHT
BEGIN:STANDARD
TZOFFSETFROM:+0200
TZOFFSETTO:+0100
TZNAME:CET
DTSTART:20221030T010000
END:STANDARD
BEGIN:DAYLIGHT
TZOFFSETFROM:+0100
TZOFFSETTO:+0200
TZNAME:CEST
DTSTART:20230326T010000
END:DAYLIGHT
BEGIN:STANDARD
TZOFFSETFROM:+0200
TZOFFSETTO:+0100
TZNAME:CET
DTSTART:20231029T010000
END:STANDARD
BEGIN:DAYLIGHT
TZOFFSETFROM:+0100
TZOFFSETTO:+0200
TZNAME:CEST
DTSTART:20240331T010000
END:DAYLIGHT
BEGIN:STANDARD
TZOFFSETFROM:+0200
TZOFFSETTO:+0100
TZNAME:CET
DTSTART:20241027T010000
END:STANDARD
END:VTIMEZONE
BEGIN:VEVENT
DTSTART;TZID=Europe/Madrid:20230715T080000
DTEND;TZID=Europe/Madrid:20230715T120000
DTSTAMP:20260423T000132
CREATED:20230615T131717Z
LAST-MODIFIED:20230615T131717Z
UID:380688-1689408000-1689422400@cnsfg.cat
SUMMARY:Curs de pesca per a nens
DESCRIPTION:Sortida de pesca en barca amb els nens i teoria a la tornada de pescar.
URL:https://cnsfg.cat/event/curs-de-pesca-per-a-nens-3/
LOCATION:Club Nàutic Sant Feliu de Guíxols\, Escullera del port s/n\, Sant Feliu de Guíxols\, Girona\, 17220\, España
CATEGORIES:Pesca
ATTACH;FMTTYPE=image/jpeg:https://cnsfg.cat/wp-content/uploads/2023/06/POSTER-ESCOLA-PESCA-2023-a100-pp_page-0001.jpg
END:VEVENT
END:VCALENDAR