BEGIN:VCALENDAR
VERSION:2.0
PRODID:-//Club Nàutic Sant Feliu de Guixols - ECPv6.15.20//NONSGML v1.0//EN
CALSCALE:GREGORIAN
METHOD:PUBLISH
X-ORIGINAL-URL:https://cnsfg.cat
X-WR-CALDESC:Esdeveniments per Club Nàutic Sant Feliu de Guixols
REFRESH-INTERVAL;VALUE=DURATION:PT1H
X-Robots-Tag:noindex
X-PUBLISHED-TTL:PT1H
BEGIN:VTIMEZONE
TZID:Europe/Madrid
BEGIN:DAYLIGHT
TZOFFSETFROM:+0100
TZOFFSETTO:+0200
TZNAME:CEST
DTSTART:20220327T010000
END:DAYLIGHT
BEGIN:STANDARD
TZOFFSETFROM:+0200
TZOFFSETTO:+0100
TZNAME:CET
DTSTART:20221030T010000
END:STANDARD
BEGIN:DAYLIGHT
TZOFFSETFROM:+0100
TZOFFSETTO:+0200
TZNAME:CEST
DTSTART:20230326T010000
END:DAYLIGHT
BEGIN:STANDARD
TZOFFSETFROM:+0200
TZOFFSETTO:+0100
TZNAME:CET
DTSTART:20231029T010000
END:STANDARD
BEGIN:DAYLIGHT
TZOFFSETFROM:+0100
TZOFFSETTO:+0200
TZNAME:CEST
DTSTART:20240331T010000
END:DAYLIGHT
BEGIN:STANDARD
TZOFFSETFROM:+0200
TZOFFSETTO:+0100
TZNAME:CET
DTSTART:20241027T010000
END:STANDARD
END:VTIMEZONE
BEGIN:VEVENT
DTSTART;TZID=Europe/Madrid:20230930T100000
DTEND;TZID=Europe/Madrid:20230930T120000
DTSTAMP:20260420T103712
CREATED:20230801T143713Z
LAST-MODIFIED:20230801T143713Z
UID:382608-1696068000-1696075200@cnsfg.cat
SUMMARY:Curs de pesca a curricà per a adults
DESCRIPTION:Curs teòric de pesca a curricà per a adults a càrrec de l’AEPMSFG.
URL:https://cnsfg.cat/event/curs-pesca-currica/
LOCATION:Club Nàutic Sant Feliu de Guíxols\, Escullera del port s/n\, Sant Feliu de Guíxols\, Girona\, 17220\, España
CATEGORIES:Pesca
ATTACH;FMTTYPE=image/jpeg:https://cnsfg.cat/wp-content/uploads/2023/08/pesca-al-currican.jpeg
END:VEVENT
END:VCALENDAR