BEGIN:VCALENDAR
VERSION:2.0
PRODID:-//Club Nàutic Sant Feliu de Guixols - ECPv6.15.20//NONSGML v1.0//EN
CALSCALE:GREGORIAN
METHOD:PUBLISH
X-ORIGINAL-URL:https://cnsfg.cat/fr/
X-WR-CALDESC:Évènements pour Club Nàutic Sant Feliu de Guixols
REFRESH-INTERVAL;VALUE=DURATION:PT1H
X-Robots-Tag:noindex
X-PUBLISHED-TTL:PT1H
BEGIN:VTIMEZONE
TZID:Europe/Madrid
BEGIN:DAYLIGHT
TZOFFSETFROM:+0100
TZOFFSETTO:+0200
TZNAME:CEST
DTSTART:20210328T010000
END:DAYLIGHT
BEGIN:STANDARD
TZOFFSETFROM:+0200
TZOFFSETTO:+0100
TZNAME:CET
DTSTART:20211031T010000
END:STANDARD
BEGIN:DAYLIGHT
TZOFFSETFROM:+0100
TZOFFSETTO:+0200
TZNAME:CEST
DTSTART:20220327T010000
END:DAYLIGHT
BEGIN:STANDARD
TZOFFSETFROM:+0200
TZOFFSETTO:+0100
TZNAME:CET
DTSTART:20221030T010000
END:STANDARD
BEGIN:DAYLIGHT
TZOFFSETFROM:+0100
TZOFFSETTO:+0200
TZNAME:CEST
DTSTART:20230326T010000
END:DAYLIGHT
BEGIN:STANDARD
TZOFFSETFROM:+0200
TZOFFSETTO:+0100
TZNAME:CET
DTSTART:20231029T010000
END:STANDARD
END:VTIMEZONE
BEGIN:VEVENT
DTSTART;VALUE=DATE:20221001
DTEND;VALUE=DATE:20221003
DTSTAMP:20260425T150855
CREATED:20220912T161035Z
LAST-MODIFIED:20220912T165847Z
UID:375683-1664582400-1664755199@cnsfg.cat
SUMMARY:51. Régate Guíxols Medes
DESCRIPTION:Guíxols Medes Régate 2022.\nClasse ORC Cruiser. Score pour les Championnats Catalans de Solitaires\, A2 et Altura (équipage). \nDates: 01-02 octobre 2022 \n+Infos: info@cnsfg.cat
URL:https://cnsfg.cat/fr/event/51-regate-guixols-medes/
LOCATION:Club Nàutic Sant Feliu de Guíxols\, Escullera del port s/n\, Sant Feliu de Guíxols\, Girona\, 17220\, España
CATEGORIES:Régates
ATTACH;FMTTYPE=image/jpeg:https://cnsfg.cat/wp-content/uploads/2022/09/Guixols-Medes-2022-scaled.jpg
ORGANIZER;CN="Yacht Club Sant Feliu de Gu%C3%ADxols":MAILTO:info@cnsfg.cat
END:VEVENT
BEGIN:VEVENT
DTSTART;TZID=Europe/Madrid:20221001T110000
DTEND;TZID=Europe/Madrid:20221002T170000
DTSTAMP:20260425T150855
CREATED:20220802T090645Z
LAST-MODIFIED:20220802T090645Z
UID:371203-1664622000-1664730000@cnsfg.cat
SUMMARY:51e Guíxols Medes Regatta
DESCRIPTION:Les 1er et 2 octobre aura lieu la régate 51 Guíxols Medes\, la plus ancienne de Catalogne. C’est une race sociale de croisière N2 qui trace un itinéraire entre Sant Feliu et les îles Medes.
URL:https://cnsfg.cat/fr/event/51e-guixols-medes-regatta/
LOCATION:Girona
CATEGORIES:Partenaires,Régates
ATTACH;FMTTYPE=image/jpeg:https://cnsfg.cat/wp-content/uploads/2022/08/Regata-Guixols-Medes.jpg
ORGANIZER;CN="Yacht Club Sant Feliu de Gu%C3%ADxols":MAILTO:info@cnsfg.cat
END:VEVENT
END:VCALENDAR